BEGIN:VCALENDAR
VERSION:2.0
PRODID:-//Malibu Shore Club - ECPv6.15.20//NONSGML v1.0//EN
CALSCALE:GREGORIAN
METHOD:PUBLISH
X-WR-CALNAME:Malibu Shore Club
X-ORIGINAL-URL:https://malibushoreclub.com
X-WR-CALDESC:Events for Malibu Shore Club
REFRESH-INTERVAL;VALUE=DURATION:PT1H
X-Robots-Tag:noindex
X-PUBLISHED-TTL:PT1H
BEGIN:VTIMEZONE
TZID:UTC
BEGIN:STANDARD
TZOFFSETFROM:+0000
TZOFFSETTO:+0000
TZNAME:UTC
DTSTART:20230101T000000
END:STANDARD
END:VTIMEZONE
BEGIN:VEVENT
DTSTART;VALUE=DATE:20240817
DTEND;VALUE=DATE:20240819
DTSTAMP:20260420T115026
CREATED:20240711T130812Z
LAST-MODIFIED:20240730T231144Z
UID:578-1723852800-1724025599@malibushoreclub.com
SUMMARY:War of the Rows\, Volleyball Tournament
DESCRIPTION:Join the competition\, and enter the War of the Rows volleyball tournament.
URL:https://malibushoreclub.com/event/war-of-the-rows-volleyball-tournament/
LOCATION:Malibu Shore Club\, 1500 Lido Blvd.
ATTACH;FMTTYPE=image/png:https://malibushoreclub.com/wp-content/uploads/2024/07/Maliblue-War-of-the-Rows-2024-IG-SQUARE-1.png
END:VEVENT
BEGIN:VEVENT
DTSTART;TZID=UTC:20240814T160000
DTEND;TZID=UTC:20240814T200000
DTSTAMP:20260420T115026
CREATED:20240725T111434Z
LAST-MODIFIED:20240725T111434Z
UID:587-1723651200-1723665600@malibushoreclub.com
SUMMARY:Family Night at Maliblue
DESCRIPTION:Inviting all camp\, Malibu and Nickerson families for special nights at Malibu.
URL:https://malibushoreclub.com/event/family-night-at-maliblue/
LOCATION:Maliblue Restaurant\, 1500 Lido Blvd.\, Lido Beach\, NY\, 11561\, United States
ATTACH;FMTTYPE=image/png:https://malibushoreclub.com/wp-content/uploads/2024/07/Maliblue-FAMILY-NIGHTS-2024-STORY-2.png
END:VEVENT
BEGIN:VEVENT
DTSTART;TZID=UTC:20240807T160000
DTEND;TZID=UTC:20240807T200000
DTSTAMP:20260420T115026
CREATED:20240725T111333Z
LAST-MODIFIED:20240725T111333Z
UID:585-1723046400-1723060800@malibushoreclub.com
SUMMARY:Family Nights at Maliblue
DESCRIPTION:Inviting all camp\, Malibu and Nickerson families for special nights at Malibu.
URL:https://malibushoreclub.com/event/family-nights-at-maliblue-2/
LOCATION:Maliblue Restaurant\, 1500 Lido Blvd.\, Lido Beach\, NY\, 11561\, United States
ATTACH;FMTTYPE=image/png:https://malibushoreclub.com/wp-content/uploads/2024/07/Maliblue-FAMILY-NIGHTS-2024-STORY-2.png
END:VEVENT
BEGIN:VEVENT
DTSTART;TZID=UTC:20240731T160000
DTEND;TZID=UTC:20240731T200000
DTSTAMP:20260420T115026
CREATED:20240725T111123Z
LAST-MODIFIED:20240725T111123Z
UID:582-1722441600-1722456000@malibushoreclub.com
SUMMARY:Family Nights at Maliblue
DESCRIPTION:Inviting all camp\, Malibu and Nickerson families for special nights at Malibu.
URL:https://malibushoreclub.com/event/family-nights-at-maliblue/
LOCATION:Maliblue Restaurant\, 1500 Lido Blvd.\, Lido Beach\, NY\, 11561\, United States
ATTACH;FMTTYPE=image/png:https://malibushoreclub.com/wp-content/uploads/2024/07/Maliblue-FAMILY-NIGHTS-2024-STORY-2.png
END:VEVENT
BEGIN:VEVENT
DTSTART;TZID=UTC:20240720T120000
DTEND;TZID=UTC:20240720T150000
DTSTAMP:20260420T115026
CREATED:20240703T105747Z
LAST-MODIFIED:20240703T105747Z
UID:573-1721476800-1721487600@malibushoreclub.com
SUMMARY:Christmas in July
DESCRIPTION:Join us for Christmas in July at the Malibu Shore. Club.
URL:https://malibushoreclub.com/event/christmas-in-july/
LOCATION:Malibu Shore Club\, 1500 Lido Blvd.
ATTACH;FMTTYPE=image/jpeg:https://malibushoreclub.com/wp-content/uploads/2024/07/MALIBLUE-Christmas-in-JULY-20th-SQUARE.jpg
END:VEVENT
BEGIN:VEVENT
DTSTART;TZID=UTC:20240629T120000
DTEND;TZID=UTC:20240629T210000
DTSTAMP:20260420T115026
CREATED:20240517T012645Z
LAST-MODIFIED:20240531T021457Z
UID:496-1719662400-1719694800@malibushoreclub.com
SUMMARY:Extravaganza By The Sea\, With a Very Special Salute to Veterans
DESCRIPTION:
URL:https://malibushoreclub.com/event/beachffest/
LOCATION:Point Lookout\, 1300 Lido BLVD\, Point Lookout\, NY
ATTACH;FMTTYPE=image/png:https://malibushoreclub.com/wp-content/uploads/2024/05/TOH-BEACHFEST-2024-FINAL.png
END:VEVENT
END:VCALENDAR